BEGIN:VCALENDAR
VERSION:2.0
PRODID:-//Nachdenken in Köln - ECPv6.15.20//NONSGML v1.0//EN
CALSCALE:GREGORIAN
METHOD:PUBLISH
X-ORIGINAL-URL:https://nachdenken-in-koeln.de
X-WR-CALDESC:Veranstaltungen für Nachdenken in Köln
REFRESH-INTERVAL;VALUE=DURATION:PT1H
X-Robots-Tag:noindex
X-PUBLISHED-TTL:PT1H
BEGIN:VTIMEZONE
TZID:UTC
BEGIN:STANDARD
TZOFFSETFROM:+0000
TZOFFSETTO:+0000
TZNAME:UTC
DTSTART:20250101T000000
END:STANDARD
END:VTIMEZONE
BEGIN:VEVENT
DTSTART;TZID=UTC:20260201T110000
DTEND;TZID=UTC:20260201T130000
DTSTAMP:20260423T120138
CREATED:20260116T143155Z
LAST-MODIFIED:20260116T143603Z
UID:3416-1769943600-1769950800@nachdenken-in-koeln.de
SUMMARY:Marx in Marxloh
DESCRIPTION:Liebe Freundinnen und Freunde von Marx in Marxloh! \nDie Kennzeichen mehren sich\, dass die Bundesrepublik und andere Staaten\nWesteuropas – über die Ukraine – auf einen Krieg mit Russland zusteuern. 67 Mrd. € hat allein die Bundesrepublik der Ukraine bisher gezahlt\, 11\,6 Mrd. sollen demnächst schon wieder folgen. Bundeskanzler Merz sieht uns zwar noch nicht im Krieg\, aber auch nicht im Frieden mit Russland; der Verteidigungsminister will uns unumwunden „kriegstüchtig“ machen. Die Militarisierung unseres Landes schreitet auf allen Ebenen fort. \nIm Rahmen einer Marx-in-Marxloh-Veranstaltung am Sonntag\, 1. Februar 2026 im Jugend- und Kulutrzentrum Marxloh\, Kaiser-Wilhelm-Str. 284\, 47169 Duisburg\, von 11 – 13 Uhr mit anschließender Diskussion – referieren. \nMehr Informationen kannst du hier herunterladen.
URL:https://nachdenken-in-koeln.de/event/marx-in-marxloh
LOCATION:Jugend- und Kulturzentrum Marxloh\, Kaiser-Wilhelm-Str. 284\, Duisburg\, Nordrhein Westfalen\, 47169\, Germany
CATEGORIES:Vortrag
END:VEVENT
BEGIN:VEVENT
DTSTART;TZID=UTC:20260205T200000
DTEND;TZID=UTC:20260205T220000
DTSTAMP:20260423T120138
CREATED:20251214T211552Z
LAST-MODIFIED:20251214T211620Z
UID:3268-1770321600-1770328800@nachdenken-in-koeln.de
SUMMARY:A Single Day
DESCRIPTION:Film über Gewissensentscheidung junger Soldaten \nDer Film zeigt\, wie der 18-jährige Larry Colburn 1968 eine Gewissensentscheidung traf – und während des My-Lai-Massakers den Befehl verweigerte\, um vietnamesische Zivilisten zu retten. \nLarry steht exemplarisch für junge Menschen\, die vor dieser Entscheidung stehen. Seine Tat rettete Leben\, aber er zahlte einen Preis\, der ihn sein Leben lang nicht mehr losließ. Sein Vater war Soldat in der Normandie und kehrte traumatisiert zurück – Larry wusste\, was Krieg bedeutet. \nIm Film sagt heute Connor\, Larrys Sohn: \n„Überlegt es euch gut. Die Politiker schicken nicht ihre Kinder. Es interessiert sie einen Scheiß\, wenn ihr in den Krieg ziehen müsst.“ Donnerstag\, 5.2.2026\, 20 Uhr – Kölner Filmhaus\, Trailer und Infos Resistance Film
URL:https://nachdenken-in-koeln.de/event/a-single-day
LOCATION:Filmhaus Kino Köln\, Maybachstraße 111\, Köln\, Nordrhein Westfalen\, 50670\, Germany
CATEGORIES:Film
END:VEVENT
BEGIN:VEVENT
DTSTART;TZID=UTC:20260224T190000
DTEND;TZID=UTC:20260224T210000
DTSTAMP:20260423T120138
CREATED:20260217T164825Z
LAST-MODIFIED:20260217T164914Z
UID:3583-1771959600-1771966800@nachdenken-in-koeln.de
SUMMARY:Gegen den Neuen Kriegsdienst
DESCRIPTION:Wie verweigern und Warum?\n  \n\nViele von euch bekommen gerade Post zur neuen Wehrerfassung und einen Link bzw. QR-Code zum digitalen Fragebogen für den neuen Wehrdienst.\nUnd auf einmal stellt sich die Frage: Was jetzt? \nIgnorieren?\nWidersprechen?\nKriegsdienst verweigern – und wenn ja\, wie und wann? \nLasst uns darüber sprechen\, wie ihr reagieren könnt –\nallein oder gemeinsam\, leise oder laut\, online oder auf der Straße.\nDarüber disku eren wir mit einem Vertreter der DFG/VK – Deutschen Friedensgesellschaft /Vereinigte Kriegsdienstgegner*innen.\nSeit über 100 Jahren stellt sie eine Frage\, die auch euch betrifft: \nWie erreichen wir eine friedliche Gesellschaft? \nWerbematerial:\n– Flugblatt Schüler (PDF)\n– Aufruf 70+ Gegen Militarisierung (PDF)
URL:https://nachdenken-in-koeln.de/event/gegen-den-neuen-kriegsdienst
LOCATION:Allerweltshaus\, Geisselstraße 3-6\, Köln-Ehrenfeld\, Nordrhein Westfalen\, 50823\, Germany
CATEGORIES:Diskussionsabend
ORGANIZER;CN="Aufruf 70+ gegen Militarisierung%EF%BB%BF und Kriegsdienst":MAILTO:info@aufruf70.de
END:VEVENT
END:VCALENDAR