BEGIN:VCALENDAR
VERSION:2.0
PRODID:-//Nachdenken in Köln - ECPv6.15.20//NONSGML v1.0//EN
CALSCALE:GREGORIAN
METHOD:PUBLISH
X-ORIGINAL-URL:https://nachdenken-in-koeln.de
X-WR-CALDESC:Veranstaltungen für Nachdenken in Köln
REFRESH-INTERVAL;VALUE=DURATION:PT1H
X-Robots-Tag:noindex
X-PUBLISHED-TTL:PT1H
BEGIN:VTIMEZONE
TZID:UTC
BEGIN:STANDARD
TZOFFSETFROM:+0000
TZOFFSETTO:+0000
TZNAME:UTC
DTSTART:20240101T000000
END:STANDARD
END:VTIMEZONE
BEGIN:VEVENT
DTSTART;TZID=UTC:20250705T174500
DTEND;TZID=UTC:20250705T181500
DTSTAMP:20260425T153135
CREATED:20250622T191959Z
LAST-MODIFIED:20250622T192000Z
UID:2604-1751737500-1751739300@nachdenken-in-koeln.de
SUMMARY:Talk: queer-feministisches Friedenspodium
DESCRIPTION:Die Cologne Pride findet in der Zeit vom 21. Juni bis 6. Juli 2025 statt. Am Samstag\, 5. Juli 2025 um 17 Uhr 45 auf der Bühne am Alter Markt wird Timon Delawari der DFG-VK ein Gespräch zum Thema halten: Kriegsdienst\, Kriegstüchtigkeit und Kriegskredite oder Queer-Feminismus & Frieden und Freiheit für alle?
URL:https://nachdenken-in-koeln.de/event/talk-queer-feministisches-friedenspodium
LOCATION:Alter Markt\, Alter Markt\, Köln\, Nordrhein-Westfalen\, 50667\, Deutschland
CATEGORIES:Podiumsdiskussion
END:VEVENT
BEGIN:VEVENT
DTSTART;TZID=UTC:20250709T193000
DTEND;TZID=UTC:20250709T213000
DTSTAMP:20260425T153135
CREATED:20250706T194650Z
LAST-MODIFIED:20250706T194749Z
UID:2703-1752089400-1752096600@nachdenken-in-koeln.de
SUMMARY:Das Gegenteil von Grau
DESCRIPTION:Brachflächen\, Leerstand\, Anonymität\, Stillstand – nicht alle zwischen Dortmund und Duisburg wollen sich damit abfinden. Im Gegenteil. Immer mehr Menschen entdecken Möglichkeiten und greifen in den städtischen Alltag ein. Ein Wohnzimmer mitten auf der Straße\, Nachbarschaft\, Gemeinschaftsgärten. Stadtteilläden\, Repair Cafés und Mieter*inneninitiativen entstehen in den Nischen der Städte – unabhängig\, selbstbestimmt und gemeinsam. \nDer Film zeigt unterschiedliche Gruppen\, die praktische Utopien und Freiräume leben und für ein solidarisches und ökologisches Miteinander im urbanen Raum kämpfen. \nIm Anschluss an die Filmvorführung diskutieren wir über den Film mit: Matthias Coers (Regisseur) und Dr. Günter Bell (Stadtplaner)
URL:https://nachdenken-in-koeln.de/event/das-gegenteil-von-grau
LOCATION:Filmhaus Kino Köln\, Maybachstraße 111\, Köln\, Nordrhein Westfalen\, 50670\, Germany
CATEGORIES:Diskussionsabend
END:VEVENT
BEGIN:VEVENT
DTSTART;TZID=UTC:20250714T180000
DTEND;TZID=UTC:20250714T180000
DTSTAMP:20260425T153135
CREATED:20250706T210913Z
LAST-MODIFIED:20250706T212217Z
UID:2718-1752516000-1752516000@nachdenken-in-koeln.de
SUMMARY:Die aktuelle Situation in Gaza
DESCRIPTION:Auf Einladung des Instituts für Sprachen und Kulturen der islamisch geprägten Welt der Universität zu Köln sprechen Sana Salha aus Gaza\, Prof. Abed Schokry\, der jahrelang im Gazastreifen als Hochschullehrer tätig war und 200 Tage dort überlebt hat\, und ich\, Riad Othman\, als Nahostreferent von medico international über die aktuelle Situation in Gaza und die Lebensrealität der Menschen vor Ort. \nModeriert wird das Gespräch von Prof. Sabine Damir-Geilsdorf. \nDie Teilnahme ist kostenlos.\nEs wird um Anmeldung per Email gebeten an: rrafrafi@uni-koeln.de \nOrt: Universität zu Köln | Hauptgebäude\, Aula 2 | Albertus-Magnus-Platz | 50931 Köln \nVeranstaltet von: Institut für Sprachen und Kulturen der islamisch geprägten Welt der Universität Köln
URL:https://nachdenken-in-koeln.de/event/die-aktuelle-situation-in-gaza
LOCATION:Uni Köln\, Albert-Magnus-Platz\, Köln\, Nordrhein Westfalen\, 50923\, Germany
CATEGORIES:Podiumsdiskussion
END:VEVENT
END:VCALENDAR