BEGIN:VCALENDAR
VERSION:2.0
PRODID:-//Nachdenken in Köln - ECPv6.15.20//NONSGML v1.0//EN
CALSCALE:GREGORIAN
METHOD:PUBLISH
X-ORIGINAL-URL:https://nachdenken-in-koeln.de
X-WR-CALDESC:Veranstaltungen für Nachdenken in Köln
REFRESH-INTERVAL;VALUE=DURATION:PT1H
X-Robots-Tag:noindex
X-PUBLISHED-TTL:PT1H
BEGIN:VTIMEZONE
TZID:UTC
BEGIN:STANDARD
TZOFFSETFROM:+0000
TZOFFSETTO:+0000
TZNAME:UTC
DTSTART:20240101T000000
END:STANDARD
END:VTIMEZONE
BEGIN:VEVENT
DTSTART;TZID=UTC:20251003T170000
DTEND;TZID=UTC:20251003T200000
DTSTAMP:20260425T102803
CREATED:20250828T173515Z
LAST-MODIFIED:20250828T174053Z
UID:2780-1759510800-1759521600@nachdenken-in-koeln.de
SUMMARY:Neutralität als Friedensprojekt
DESCRIPTION:Vortrags- und Diskussionsveranstaltung mit Vertretern von Neutralitätsinitiativen aus Schweiz\, Österreich und Deutschland\n \nEs zeigt sich zunehmend: Neutralität von Staaten ist ein entscheidender Schlüssel zu einer friedlicheren Welt. Aber dagegen stehen handfeste Interessen derer\, die ihre Machtposition – auch mit kriegerischen Mitteln – erhalten oder ausbauen wollen. Bislang neutrale Staaten werden unter Druck gesetzt\, ihre Neutralität aufzugeben. \nZunächst beschreiben die Referenten die Situation in ihren Ländern. Was hat sich entwickelt? Welchen Schwierigkeiten stehen die Neutralitätsinitiativen gegenüber? Und was ist ihr Ziel in den drei Ländern? Und wie ist der Weg dahin? Weiter geht es dann mit einer Podiumsdiskussion\, in die auch das Publikum einbezogen ist. \nMitwirkende: \nAriet Güttinger (Vorstandsmitglied der Schweizer Initiative „Bewegung für Neutralität“)\nDaniel Jenny (Bundesobmann des Bündnisses „Neutrales Freies Österreich“\, NFÖ)\nAndreas Neumann (Kampagne für ein neutrales Deutschland)\nBegrüßung: Wolfgang Pawlik (AG Frieden dieBasis Köln)\nModeration: Anneliese Fikentscher (Neue Rheinische Zeitung) \nVeranstalter: \nKampagne für ein neutrales Deutschland – initiiert von der AG Frieden dieBasis Köln\nin Kooperation mit der Neuen Rheinischen Zeitung und dem Bundesverband Arbeiterfotografie \nWeitere Informationen auf der Website der Kampagne: https://deutschlandNEUTRAL.de \nReservierung ist direkt bei Krasser.guru erwünscht.
URL:https://nachdenken-in-koeln.de/event/neutralitaet-als-friedensprojekt
LOCATION:Hinterhof Salon\, Aachener Straße 68\, Köln\, Nordrhein Westfalen\, 50674\, Germany
CATEGORIES:Podiumsdiskussion
END:VEVENT
BEGIN:VEVENT
DTSTART;TZID=UTC:20251011T183000
DTEND;TZID=UTC:20251011T230000
DTSTAMP:20260425T102803
CREATED:20250928T184624Z
LAST-MODIFIED:20250928T184625Z
UID:2861-1760207400-1760223600@nachdenken-in-koeln.de
SUMMARY:Narrativ und Gegennarrativ
DESCRIPTION:Dr. Ansgar Schneider \nStaatsverbrechen gegen die Demokratie gehen mit einem offiziellen Narrativ\, d. h. einer irreführenden Darstellung der Ereignisse einher\, um der Bevölkerung eine scheinbar plausible Erklärung der Ereignisse zu geben\, die die wahren Täter verdeckt. Neben dem offiziellen Narrativ werden auch Gegennarrative verbreitet oder gefördert\, um damit die kritische Gegenöffentlichkeit auf eine falsche Fährte zu bringen und damit letztlich ihres revolutionären Potentials zu berauben. \nEin sehr brisantes Thema\, das Dr. Ansgar Schneider aufgreift und für uns beleuchtet. \nFreut euch mit mir auf den sicher informationsreichen Abend und – wie immer – die spannende Diskussionsrunde im Anschluss!
URL:https://nachdenken-in-koeln.de/event/narrativ-und-gegennarrativ
LOCATION:Philosophischer Salon\, Köln\, Nordrhein Westfalen\, 51149\, Germany
CATEGORIES:Vortrag
ORGANIZER;CN="Philosophischer Salon":MAILTO:kontakt@philosophischer-salon.de
END:VEVENT
BEGIN:VEVENT
DTSTART;TZID=UTC:20251016T190000
DTEND;TZID=UTC:20251016T210000
DTSTAMP:20260425T102803
CREATED:20250921T184411Z
LAST-MODIFIED:20251004T130350Z
UID:2841-1760641200-1760648400@nachdenken-in-koeln.de
SUMMARY:Die Neue Seidenstraße der Wissenschaft
DESCRIPTION:Die Kapitalisten haben sich früh neben Religionen auch die Wissenschaft gekauft. Privat finanzierte Lehrstühle\, private Universitäten – am bekanntesten sind die US-Eliteunis wie MIT\, Johns Hopkins\, Yale und z.B. Harvard\, wo dann etwa Absolventen wie Obama und Lauterbach Kapitalinteressen dienten. Dagegen entwickelt die Volksrepublik China mit weltweiten Kooperationspartnern eine an Völkerrecht\, Menschenrechten auch eine Neue Seidenstraße der Wissenschaft\, die nicht vom Kapital gekauft ist. \nDr. Werner Rügemer berichtet über die Aktivitäten der World Asscociation for Political Economy (WAPE). Die Zeitschrift Belt & Road Initiative Quarterly (BRIQ) und die Zeitschrift World Marxist Review\, in der er Mitherausgeber und Autor ist. \nDamit wir diese Veranstaltung optimal planen können\, ist eine Reservierung erwünscht\, jedoch nicht zwingend erforderlich. Vielen Dank für dein Verständnis.
URL:https://nachdenken-in-koeln.de/event/die-neue-seidenstrasse-der-wissenschaft
LOCATION:Café St. Mocca\, Am Rosengarten 2\, Köln\, Nordrhein Westfalen\, 50827\, Germany
CATEGORIES:Diskussionsabend,Vortrag
END:VEVENT
END:VCALENDAR