BEGIN:VCALENDAR
VERSION:2.0
PRODID:-//Nachdenken in Köln - ECPv6.15.20//NONSGML v1.0//EN
CALSCALE:GREGORIAN
METHOD:PUBLISH
X-WR-CALNAME:Nachdenken in Köln
X-ORIGINAL-URL:https://nachdenken-in-koeln.de
X-WR-CALDESC:Veranstaltungen für Nachdenken in Köln
REFRESH-INTERVAL;VALUE=DURATION:PT1H
X-Robots-Tag:noindex
X-PUBLISHED-TTL:PT1H
BEGIN:VTIMEZONE
TZID:UTC
BEGIN:STANDARD
TZOFFSETFROM:+0000
TZOFFSETTO:+0000
TZNAME:UTC
DTSTART:20240101T000000
END:STANDARD
END:VTIMEZONE
BEGIN:VEVENT
DTSTART;TZID=UTC:20251116T110000
DTEND;TZID=UTC:20251116T160000
DTSTAMP:20260425T105221
CREATED:20251110T220023Z
LAST-MODIFIED:20251110T220233Z
UID:3112-1763290800-1763308800@nachdenken-in-koeln.de
SUMMARY:Einladung des Friedensbündnis NRW zur Sonntags-Matinee
DESCRIPTION:Die Matinee besteht aus zwei Teilen\, Vortrag und Strategiedebatte. \nVortrag und Debatte \nDer Kulturhistoriker Hauke Ritz wird zu Beginn sein Buch „Vom Niedergang des Westens zur Neuerfindung Europas“ vorstellen. \nIm Anschluss wollen wir mit Hauke Ritz zu den Themen „Friedensarbeit in Zeiten grassierender Russophobie“ und „Deutschlands Rolle in einer multipolaren Welt“ diskutieren. \nUm die Mittagszeit werden wir eine Pause einlegen und empfehlen die gute Küche des Brauhauses. \nStrategiedebatte \nIm Rahmen einer offenen Strategiedebatte (13:00 -15 Uhr) freuen wir uns anschließend auf Berichte aus euren Friedensinitiativen\, Debatten zum Stand der Friedensbewegung\, und eine gemeinsame Aktionsplanung des Friedensbündnis NRW bzw. seiner Einzelgruppen. \nVertreter von Friedensinitiativen sind herzlich willkommen\, ebenso jeder\, der ehrlichen Herzens für Frieden ist. Wir danken der Basis NRW für die finanzielle Unterstützung unserer Veranstaltung. \nNews: Als externe Gäste der Matinee haben sich inzwischen angesagt: Reiner Braun und MdEP Thomas Geisel. Wir freuen uns auf ihren Besuch und ihre wertvollen Beiträge. \nMehr Details über den Vortrag\, kannst du hier erhalten.
URL:https://nachdenken-in-koeln.de/event/einladung-des-friedensbuendnis-nrw-zur-sonntags-matinee
LOCATION:Brauhaus am Dreieck\, Blücherstraße 6\, Düsseldorf\, Nordrhein Westfalen\, 40477\, Germany
CATEGORIES:Vortrag
END:VEVENT
END:VCALENDAR