BEGIN:VCALENDAR
VERSION:2.0
PRODID:-//Nachdenken in Köln - ECPv6.15.20//NONSGML v1.0//EN
CALSCALE:GREGORIAN
METHOD:PUBLISH
X-WR-CALNAME:Nachdenken in Köln
X-ORIGINAL-URL:https://nachdenken-in-koeln.de
X-WR-CALDESC:Veranstaltungen für Nachdenken in Köln
REFRESH-INTERVAL;VALUE=DURATION:PT1H
X-Robots-Tag:noindex
X-PUBLISHED-TTL:PT1H
BEGIN:VTIMEZONE
TZID:UTC
BEGIN:STANDARD
TZOFFSETFROM:+0000
TZOFFSETTO:+0000
TZNAME:UTC
DTSTART:20240101T000000
END:STANDARD
END:VTIMEZONE
BEGIN:VEVENT
DTSTART;TZID=UTC:20250823T143000
DTEND;TZID=UTC:20250823T190000
DTSTAMP:20260422T032924
CREATED:20250801T131538Z
LAST-MODIFIED:20250801T131538Z
UID:2743-1755959400-1755975600@nachdenken-in-koeln.de
SUMMARY:Der gegenwärtige Systemkonflikt und seine Lösung
DESCRIPTION:Die BSW-Unterstützungsgruppe Rheinisch-Bergischer Kreis lädt ein zur Veranstaltung: „Der gegenwärtige Systemkonflikt und seine Lösung“ \nmit dem Referenten Dr. Werner Rügemer \nDiese Bildungs- und Diskussionsveranstaltung mit aktuellem Bezug besteht aus zwei Teilen: \n\nDie herrschende Klasse im US-geführten Kapitalismus\nDie gegenwärtige Klasse der abhängig Beschäftigten\n\nNäheres zu den Inhalten sowie weitere organisatorische Angaben können dem Einladungstext hier entnommen werden. \n\nAnmeldung bitte nur unter info@bsw-ug-rbk.de\nBestätigung mit Zahlungshinweisen per Rückmail\nReservierung nur per Vorkasse. 
URL:https://nachdenken-in-koeln.de/event/der-gegenwaertige-systemkonflikt-und-seine-loesung
LOCATION:Naturfreundehaus Höhenhaus\, Honschaftsstraße 330\, Köln\, Nordrhein-Westfalen\, 51061\, Deutschland
CATEGORIES:Seminar
END:VEVENT
BEGIN:VEVENT
DTSTART;TZID=UTC:20250830T133000
DTEND;TZID=UTC:20250830T193000
DTSTAMP:20260422T032924
CREATED:20250827T144342Z
LAST-MODIFIED:20250827T144342Z
UID:2772-1756560600-1756582200@nachdenken-in-koeln.de
SUMMARY:Aufruf des Kölner Friedensfreunden zum Antikriegstag
DESCRIPTION:Wir als NachDenkSeiten-Gesprächskreis Köln wollen uns auch dieses Jahr wieder zusammen mit den Kölner Friedensfreunden* an der Demonstration zum Antikriegstag beteiligen. \nKommt bitte zahlreich mit Friedensfahnen oder selbstgemalten Friedensbotschaften! \nFrieden schaffen – Aufrüstung stoppen! Gemeinsam für internationale Solidarität und Einhaltung des Völkerrechts \n\n13:30 Auftaktkundgebung am Heumarkt\nAnschließend gemeinsame Demo mit dem Camp von Rheinmetall Entwaffnen zum Chlodwigplatz und gemeinsame Kundgebung\nAbschließend: Musik und Kultur für den Frieden auf dem Chlodwigplatz\, mit Livemusik\, Friedensgedichten und Vorstellung von politischen Initiativen gegen Militarisierung in Köln\n\nMit Reden von:  \n\nUlrich Schneider\, Historiker\, Generalsekretär der Internationalen Föderation der Widerstandskämpfer (FIR) – Bund der Antifaschisten\nLudo De Brabander\, belgische Friedensbewegung (VREDE.be)\n\n\nJosé Nivoi\, Sprecher des Autonomen Hafenarbeiterkollektivs (Collettivo Autonomo Lavoratori Portuali\, CALP) in Genua (angefragt) 
URL:https://nachdenken-in-koeln.de/event/aufruf-des-koelner-friedensfreunden-zum-antikriegstag
LOCATION:Heumarkt\, Heumarkt\, Köln\, Nordrhein Westfalen\, 50667\, Germany
CATEGORIES:Kundgebung
END:VEVENT
BEGIN:VEVENT
DTSTART;TZID=UTC:20250831T180000
DTEND;TZID=UTC:20250831T210000
DTSTAMP:20260422T032924
CREATED:20250815T204149Z
LAST-MODIFIED:20250815T204149Z
UID:2755-1756663200-1756674000@nachdenken-in-koeln.de
SUMMARY:Wie umgehen mit dem Krieg?
DESCRIPTION:Kriegspropaganda\, Militarisierung und Repression:\nWie umgehen mit dem Krieg? \nPodiumsdiskussion des Friedensbündnis NRW anlässlich des Antikriegstags\, mit:\n• Thomas Geisel (MdEP\, ehem. Oberbürgermeister von Düsseldorf)\n• Andrej Hunko (ehem. MdB und ehem. Mitglied in Europarat und OSZE)\n• Wa’el Jaber (Palästinensische Allianz NRW)\n• Dr. Mona Aranea (Soziologin\, Friedensbündnis NRW\, Moderation) \nDer Antikriegstag 1. September erinnert daran\, welches Leid der am 1. September 1939 begonnene Zweite Weltkrieg über die Menschen Europas und der Welt gebracht hat\, mit mehr als 60 Millionen Opfern\, darunter 27 Millionen Tote allein in der Sowjetunion. Heute scheint die Mahnung des Zweiten Weltkriegs vollständig vergessen. Mehr?
URL:https://nachdenken-in-koeln.de/event/wie-umgehen-mit-dem-krieg
LOCATION:Brauhaus am Dreieck\, Blücherstraße 6\, Düsseldorf\, Nordrhein Westfalen\, 40477\, Germany
CATEGORIES:Podiumsdiskussion
END:VEVENT
END:VCALENDAR