BEGIN:VCALENDAR
VERSION:2.0
PRODID:-//Nachdenken in Köln - ECPv6.15.20//NONSGML v1.0//EN
CALSCALE:GREGORIAN
METHOD:PUBLISH
X-WR-CALNAME:Nachdenken in Köln
X-ORIGINAL-URL:https://nachdenken-in-koeln.de
X-WR-CALDESC:Veranstaltungen für Nachdenken in Köln
REFRESH-INTERVAL;VALUE=DURATION:PT1H
X-Robots-Tag:noindex
X-PUBLISHED-TTL:PT1H
BEGIN:VTIMEZONE
TZID:UTC
BEGIN:STANDARD
TZOFFSETFROM:+0000
TZOFFSETTO:+0000
TZNAME:UTC
DTSTART:20240101T000000
END:STANDARD
END:VTIMEZONE
BEGIN:VEVENT
DTSTART;TZID=UTC:20250906T190000
DTEND;TZID=UTC:20250906T210000
DTSTAMP:20260422T020508
CREATED:20250827T150034Z
LAST-MODIFIED:20250827T150034Z
UID:2774-1757185200-1757192400@nachdenken-in-koeln.de
SUMMARY:Meinungsfreiheit: Zurück im Gespräch
DESCRIPTION:Eine hochkarätig besetzte Veranstaltung des BSW Köln zum Thema Meinungsfreiheit präsentiert die Politikwissenschaftlerin und Publizistin („Zeitenwenden“) Prof. Dr. Ulrike Guérot\, den Rechtsanwalt und Buchautor („Meinungsfreiheit in Gefahr! Wie der Staat die Demokratie aushöhlt“) Jan Ristau und den Generalsekretär des BSW Christian Leye. \nEbenfalls vor Ort der Vorstand des BSW Köln Uzay Harman und Spitzenkandidat des BSW Köln bei der Kommunalwahl Guido Spinnen.
URL:https://nachdenken-in-koeln.de/event/meinungsfreiheit-zurueck-im-gespraech
LOCATION:Kolpingsaal des Stadthotel am Römerturm\, Sankt-Apernstraße 32\, Köln\, Nordrhein Westfalen\, 50667\, Germany
CATEGORIES:Podiumsdiskussion
END:VEVENT
END:VCALENDAR