BEGIN:VCALENDAR
VERSION:2.0
PRODID:-//Nachdenken in Köln - ECPv6.15.20//NONSGML v1.0//EN
CALSCALE:GREGORIAN
METHOD:PUBLISH
X-WR-CALNAME:Nachdenken in Köln
X-ORIGINAL-URL:https://nachdenken-in-koeln.de
X-WR-CALDESC:Veranstaltungen für Nachdenken in Köln
REFRESH-INTERVAL;VALUE=DURATION:PT1H
X-Robots-Tag:noindex
X-PUBLISHED-TTL:PT1H
BEGIN:VTIMEZONE
TZID:UTC
BEGIN:STANDARD
TZOFFSETFROM:+0000
TZOFFSETTO:+0000
TZNAME:UTC
DTSTART:20240101T000000
END:STANDARD
END:VTIMEZONE
BEGIN:VEVENT
DTSTART;TZID=UTC:20251130T100000
DTEND;TZID=UTC:20251130T160000
DTSTAMP:20260421T225322
CREATED:20251119T194818Z
LAST-MODIFIED:20251119T202505Z
UID:3121-1764496800-1764518400@nachdenken-in-koeln.de
SUMMARY:Europa neu denken
DESCRIPTION:Die Anwälte für Aufklärung laden ein: \nPatrik Baab\, Prof. Dr. Ulrike Guérot – Moderation Flavio von Witzleben \n \nWährend die Rede vom Niedergang Europas weltweit zu einem geflügelten Wort geworden ist\, befindet sich der europäische Kontinent selbst in einer tiefen geistigen Krise. Es mangelt an einer Fähigkeit\, die eigene Lage zu begreifen und so einer auf Selbstzerstörung programmierten Politik eine neue Vision der eigenen Zukunft entgegenzusetzen. Da die bestehenden Institutionen strukturell nicht in der Lage sind\, den Kurs zu korrigieren\, wurde bereits vielfach die Gründung eines unabhängigen Think Tanks angedacht. \nTickets bitte hier buchen. \nDer genaue Veranstaltungsort wird den Teilnehmern ca. 2 – 3 Tage vor der Veranstaltung per E-Mail bekannt gegeben.
URL:https://nachdenken-in-koeln.de/event/europa-neu-denken
LOCATION:Nordrhein-Westfalen
CATEGORIES:Vortrag
END:VEVENT
END:VCALENDAR